BEGIN:VCALENDAR
VERSION:2.0
PRODID:-//wp-events-plugin.com//7.2.3.1//EN
TZID:Europe/Rome
X-WR-TIMEZONE:Europe/Rome
BEGIN:VEVENT
UID:34@parrocchiagiurdignano.org
DTSTART;TZID=Europe/Rome:20260317T083000
DTEND;TZID=Europe/Rome:20260319T213000
DTSTAMP:20260225T141333Z
URL:https://www.parrocchiagiurdignano.org/events/giuseppe-luomo-del-silenz
 io/
SUMMARY:Giuseppe: l'uomo del silenzio
DESCRIPTION:Itinerario di arte e fede\n\n&nbsp\;
END:VEVENT
BEGIN:VTIMEZONE
TZID:Europe/Rome
X-LIC-LOCATION:Europe/Rome
BEGIN:STANDARD
DTSTART:20251026T020000
TZOFFSETFROM:+0200
TZOFFSETTO:+0100
TZNAME:CET
END:STANDARD
END:VTIMEZONE
END:VCALENDAR