BEGIN:VCALENDAR
VERSION:2.0
PRODID:-//wp-events-plugin.com//7.2.3.1//EN
TZID:Europe/Rome
X-WR-TIMEZONE:Europe/Rome
BEGIN:VEVENT
UID:31@parrocchiagiurdignano.org
DTSTART;TZID=Europe/Rome:20260310T180000
DTEND;TZID=Europe/Rome:20260318T190000
DTSTAMP:20260225T142038Z
URL:https://www.parrocchiagiurdignano.org/events/inizio-novena-di-san-gius
 eppe/
SUMMARY:Inizio novena di San Giuseppe
DESCRIPTION:Ore 7.00 e 18.00 Novena e Santa Messa
END:VEVENT
BEGIN:VTIMEZONE
TZID:Europe/Rome
X-LIC-LOCATION:Europe/Rome
BEGIN:STANDARD
DTSTART:20251026T020000
TZOFFSETFROM:+0200
TZOFFSETTO:+0100
TZNAME:CET
END:STANDARD
END:VTIMEZONE
END:VCALENDAR